BEGIN:VCALENDAR
VERSION:2.0
PRODID:-//BFM Magazine - ECPv6.15.20//NONSGML v1.0//EN
CALSCALE:GREGORIAN
METHOD:PUBLISH
X-ORIGINAL-URL:https://www.bfmmagazine.co.uk
X-WR-CALDESC:Events for BFM Magazine
REFRESH-INTERVAL;VALUE=DURATION:PT1H
X-Robots-Tag:noindex
X-PUBLISHED-TTL:PT1H
BEGIN:VTIMEZONE
TZID:Europe/London
BEGIN:DAYLIGHT
TZOFFSETFROM:+0000
TZOFFSETTO:+0100
TZNAME:BST
DTSTART:20230326T010000
END:DAYLIGHT
BEGIN:STANDARD
TZOFFSETFROM:+0100
TZOFFSETTO:+0000
TZNAME:GMT
DTSTART:20231029T010000
END:STANDARD
BEGIN:DAYLIGHT
TZOFFSETFROM:+0000
TZOFFSETTO:+0100
TZNAME:BST
DTSTART:20240331T010000
END:DAYLIGHT
BEGIN:STANDARD
TZOFFSETFROM:+0100
TZOFFSETTO:+0000
TZNAME:GMT
DTSTART:20241027T010000
END:STANDARD
BEGIN:DAYLIGHT
TZOFFSETFROM:+0000
TZOFFSETTO:+0100
TZNAME:BST
DTSTART:20250330T010000
END:DAYLIGHT
BEGIN:STANDARD
TZOFFSETFROM:+0100
TZOFFSETTO:+0000
TZNAME:GMT
DTSTART:20251026T010000
END:STANDARD
END:VTIMEZONE
BEGIN:VEVENT
DTSTART;VALUE=DATE:20240911
DTEND;VALUE=DATE:20240913
DTSTAMP:20260422T120347
CREATED:20240328T170907Z
LAST-MODIFIED:20240328T170948Z
UID:9427-1726012800-1726185599@www.bfmmagazine.co.uk
SUMMARY:Resources & Waste Management Expo 2024
DESCRIPTION:Join the ultimate platform for accelerating change towards a more sustainable planet. At RWM\, engage in discussions on critical waste and resource management topics\, discover innovative green technologies\, and launch solutions to the sector’s most pressing challenges in line with the principles of the circular economy. \nOrganised in partnership with leading organisations\, including the Chartered Institute of Wastes Management and Environmental Services Association\, access need-to-know insights and network with like-minded professionals over two action-packed days. \nIn 2023\, RWM welcomed over 8\,000 high-level attendees eager to discover cutting-edge technologies\, lucrative investment opportunities\, and crucial insights that elevated their operations\, emphasising the importance of a circular economy\, achieving net-zero goals\, and promoting sustainability.
URL:https://www.bfmmagazine.co.uk/event/resources-waste-management-expo-2024/
LOCATION:NEC\, NEC\, Birmingham\, B40 1NT\, United Kingdom
CATEGORIES:Conference,Exhibition
END:VEVENT
END:VCALENDAR