BEGIN:VCALENDAR
VERSION:2.0
PRODID:-//BFM Magazine - ECPv6.15.20//NONSGML v1.0//EN
CALSCALE:GREGORIAN
METHOD:PUBLISH
X-ORIGINAL-URL:https://www.bfmmagazine.co.uk
X-WR-CALDESC:Events for BFM Magazine
REFRESH-INTERVAL;VALUE=DURATION:PT1H
X-Robots-Tag:noindex
X-PUBLISHED-TTL:PT1H
BEGIN:VTIMEZONE
TZID:Europe/London
BEGIN:DAYLIGHT
TZOFFSETFROM:+0000
TZOFFSETTO:+0100
TZNAME:BST
DTSTART:20230326T010000
END:DAYLIGHT
BEGIN:STANDARD
TZOFFSETFROM:+0100
TZOFFSETTO:+0000
TZNAME:GMT
DTSTART:20231029T010000
END:STANDARD
BEGIN:DAYLIGHT
TZOFFSETFROM:+0000
TZOFFSETTO:+0100
TZNAME:BST
DTSTART:20240331T010000
END:DAYLIGHT
BEGIN:STANDARD
TZOFFSETFROM:+0100
TZOFFSETTO:+0000
TZNAME:GMT
DTSTART:20241027T010000
END:STANDARD
BEGIN:DAYLIGHT
TZOFFSETFROM:+0000
TZOFFSETTO:+0100
TZNAME:BST
DTSTART:20250330T010000
END:DAYLIGHT
BEGIN:STANDARD
TZOFFSETFROM:+0100
TZOFFSETTO:+0000
TZNAME:GMT
DTSTART:20251026T010000
END:STANDARD
END:VTIMEZONE
BEGIN:VEVENT
DTSTART;TZID=Europe/London:20241202T100000
DTEND;TZID=Europe/London:20241204T160000
DTSTAMP:20260420T083130
CREATED:20240328T165442Z
LAST-MODIFIED:20240328T165442Z
UID:9417-1733133600-1733328000@www.bfmmagazine.co.uk
SUMMARY:Anticipate London
DESCRIPTION:Anticipate London is where the future landscape of people and property becomes reality. \nSee first-hand how technology is creating smarter and safer working environments and hear from industry experts and government on how new standards and policy is shaping the world around us. \nHundreds of solution providers cover every aspect of fire safety\, security\, health & safety and facilities management. An unrivalled opportunity to connect and future-proof your business through our live content programme.
URL:https://www.bfmmagazine.co.uk/event/anticipate-london/
LOCATION:ExCeL London\, Royal Victoria Dock\, 1 Western Gateway\, Royal Docks\,\, London\, E16 1XL\, United Kingdom
CATEGORIES:Conference,Exhibition
END:VEVENT
END:VCALENDAR