BEGIN:VCALENDAR
VERSION:2.0
PRODID:-//BFM Magazine - ECPv6.15.20//NONSGML v1.0//EN
CALSCALE:GREGORIAN
METHOD:PUBLISH
X-ORIGINAL-URL:https://www.bfmmagazine.co.uk
X-WR-CALDESC:Events for BFM Magazine
REFRESH-INTERVAL;VALUE=DURATION:PT1H
X-Robots-Tag:noindex
X-PUBLISHED-TTL:PT1H
BEGIN:VTIMEZONE
TZID:Europe/London
BEGIN:DAYLIGHT
TZOFFSETFROM:+0000
TZOFFSETTO:+0100
TZNAME:BST
DTSTART:20240331T010000
END:DAYLIGHT
BEGIN:STANDARD
TZOFFSETFROM:+0100
TZOFFSETTO:+0000
TZNAME:GMT
DTSTART:20241027T010000
END:STANDARD
BEGIN:DAYLIGHT
TZOFFSETFROM:+0000
TZOFFSETTO:+0100
TZNAME:BST
DTSTART:20250330T010000
END:DAYLIGHT
BEGIN:STANDARD
TZOFFSETFROM:+0100
TZOFFSETTO:+0000
TZNAME:GMT
DTSTART:20251026T010000
END:STANDARD
BEGIN:DAYLIGHT
TZOFFSETFROM:+0000
TZOFFSETTO:+0100
TZNAME:BST
DTSTART:20260329T010000
END:DAYLIGHT
BEGIN:STANDARD
TZOFFSETFROM:+0100
TZOFFSETTO:+0000
TZNAME:GMT
DTSTART:20261025T010000
END:STANDARD
END:VTIMEZONE
BEGIN:VEVENT
DTSTART;VALUE=DATE:20251021
DTEND;VALUE=DATE:20251023
DTSTAMP:20260419T161857
CREATED:20251015T143123Z
LAST-MODIFIED:20251015T143123Z
UID:10415-1761004800-1761177599@www.bfmmagazine.co.uk
SUMMARY:Healthcare Estates 2025
DESCRIPTION:As the NHS faces unprecedented challenges – from ageing infrastructure and rising demand to ambitious Net Zero commitments and a need for new hospitals – the estates and facilities profession finds itself at the centre of vital national change. \nHealthcare Estates 2025 is organised around the theme of “Prevention is Better Than Cure” and is your opportunity to join thousands of professionals in healthcare engineering\, estates management and supporting sectors to address and meet those challenges\, and prepare for the future. \nFeaturing keynote sessions\, expert presentations\, debates\, roundtables\, and a major exhibition with over 230 leading companies and industry associations\, Healthcare Estates offers an unparalleled platform for informed debate\, practical learning\, investigation of the latest offerings from the commercial world\, and identification of technical solutions.
URL:https://www.bfmmagazine.co.uk/event/healthcare-estates-2025/
LOCATION:Manchester Central\, Petersfield\, Manchester\, M2 3GX\, United Kingdom
CATEGORIES:Awards,Conference,Exhibition
ORGANIZER;CN="Step Exhibitions":MAILTO:healthcare@step-exhibitions.com
END:VEVENT
END:VCALENDAR