BEGIN:VCALENDAR
VERSION:2.0
PRODID:-//BFM Magazine - ECPv6.15.20//NONSGML v1.0//EN
CALSCALE:GREGORIAN
METHOD:PUBLISH
X-ORIGINAL-URL:https://www.bfmmagazine.co.uk
X-WR-CALDESC:Events for BFM Magazine
REFRESH-INTERVAL;VALUE=DURATION:PT1H
X-Robots-Tag:noindex
X-PUBLISHED-TTL:PT1H
BEGIN:VTIMEZONE
TZID:Europe/London
BEGIN:DAYLIGHT
TZOFFSETFROM:+0000
TZOFFSETTO:+0100
TZNAME:BST
DTSTART:20240331T010000
END:DAYLIGHT
BEGIN:STANDARD
TZOFFSETFROM:+0100
TZOFFSETTO:+0000
TZNAME:GMT
DTSTART:20241027T010000
END:STANDARD
BEGIN:DAYLIGHT
TZOFFSETFROM:+0000
TZOFFSETTO:+0100
TZNAME:BST
DTSTART:20250330T010000
END:DAYLIGHT
BEGIN:STANDARD
TZOFFSETFROM:+0100
TZOFFSETTO:+0000
TZNAME:GMT
DTSTART:20251026T010000
END:STANDARD
BEGIN:DAYLIGHT
TZOFFSETFROM:+0000
TZOFFSETTO:+0100
TZNAME:BST
DTSTART:20260329T010000
END:DAYLIGHT
BEGIN:STANDARD
TZOFFSETFROM:+0100
TZOFFSETTO:+0000
TZNAME:GMT
DTSTART:20261025T010000
END:STANDARD
END:VTIMEZONE
BEGIN:VEVENT
DTSTART;VALUE=DATE:20251119
DTEND;VALUE=DATE:20251121
DTSTAMP:20260420T010015
CREATED:20251015T124055Z
LAST-MODIFIED:20251015T124055Z
UID:10411-1763510400-1763683199@www.bfmmagazine.co.uk
SUMMARY:EMEX 2025
DESCRIPTION:emex 2025 returns on 19-20 November to ExCeL\, London. Join us in 2025 as we take an exciting new step in the emex journey! This year we’re delighted to be expanding into the world of smart buildings alongside our core focus of energy management and net zero. \nAs the sector grows\, we’re delighted to welcome an even bigger audience to the 2025 show including everyone involved with smart and connected buildings\, as well as our loyal visitors from the energy\, sustainability and facilities management space. emex will play host to thousands of key decision-makers ready to forge new connections\, plus a vibrant array of exhibitors showcasing the latest technology and solutions-focused innovations to drive UK businesses towards a net zero future. Our first-class programme of content hosted across five dedicated theatres reflects the expansion of the show\, whilst remaining true to the content streams for which emex is renound. Registration is free so sign up today and join us at emex 2025 in November.
URL:https://www.bfmmagazine.co.uk/event/emex-2025/
LOCATION:ExCeL London\, Royal Victoria Dock\, 1 Western Gateway\, Royal Docks\,\, London\, E16 1XL\, United Kingdom
CATEGORIES:Conference,Exhibition
ATTACH;FMTTYPE=image/jpeg:https://www.bfmmagazine.co.uk/wp-content/uploads/2025/10/emex25.jpg
END:VEVENT
END:VCALENDAR