BEGIN:VCALENDAR
VERSION:2.0
PRODID:-//BFM Magazine - ECPv6.15.20//NONSGML v1.0//EN
CALSCALE:GREGORIAN
METHOD:PUBLISH
X-WR-CALNAME:BFM Magazine
X-ORIGINAL-URL:https://www.bfmmagazine.co.uk
X-WR-CALDESC:Events for BFM Magazine
REFRESH-INTERVAL;VALUE=DURATION:PT1H
X-Robots-Tag:noindex
X-PUBLISHED-TTL:PT1H
BEGIN:VTIMEZONE
TZID:Europe/London
BEGIN:DAYLIGHT
TZOFFSETFROM:+0000
TZOFFSETTO:+0100
TZNAME:BST
DTSTART:20230326T010000
END:DAYLIGHT
BEGIN:STANDARD
TZOFFSETFROM:+0100
TZOFFSETTO:+0000
TZNAME:GMT
DTSTART:20231029T010000
END:STANDARD
BEGIN:DAYLIGHT
TZOFFSETFROM:+0000
TZOFFSETTO:+0100
TZNAME:BST
DTSTART:20240331T010000
END:DAYLIGHT
BEGIN:STANDARD
TZOFFSETFROM:+0100
TZOFFSETTO:+0000
TZNAME:GMT
DTSTART:20241027T010000
END:STANDARD
BEGIN:DAYLIGHT
TZOFFSETFROM:+0000
TZOFFSETTO:+0100
TZNAME:BST
DTSTART:20250330T010000
END:DAYLIGHT
BEGIN:STANDARD
TZOFFSETFROM:+0100
TZOFFSETTO:+0000
TZNAME:GMT
DTSTART:20251026T010000
END:STANDARD
END:VTIMEZONE
BEGIN:VEVENT
DTSTART;VALUE=DATE:20241008
DTEND;VALUE=DATE:20241010
DTSTAMP:20260422T100123
CREATED:20240328T170022Z
LAST-MODIFIED:20240328T170022Z
UID:9420-1728345600-1728518399@www.bfmmagazine.co.uk
SUMMARY:Healthcare Estates
DESCRIPTION:The Conference addresses the critical subjects affecting the healthcare engineering and estates management sector today\, and those shaping its future\, with the aim of providing ideas\, inspiration and answers for tackling those challenges. \nConference Delegates benefit from a broad programme of content\, including keynotes from top leaders\, expert presentations\, and interactive workshops. \nIt is an affordable and efficient way for estates and facilities professionals and healthcare engineers of all levels to engage with key issues\, enhance their knowledge and keep their CPD record up to date. \nIHEEM is a certified CPD provider and IHEEM members using the MyIHEEM CPD platform can easily add sessions attended at Healthcare Estates to their record. \n\n\nThe Exhibition is free to attend and is the place for healthcare engineering and EFM professionals of all levels to discover the products and services to help them meet current and future challenges\, as well as to take advantage of the free learning opportunities presented by the Exhibitor seminar programme. \n\n\n\n 
URL:https://www.bfmmagazine.co.uk/event/healthcare-estates/
LOCATION:Manchester Central\, Petersfield\, Manchester\, M2 3GX\, United Kingdom
CATEGORIES:Conference,Exhibition
ORGANIZER;CN="Step Exhibitions":MAILTO:healthcare@step-exhibitions.com
END:VEVENT
BEGIN:VEVENT
DTSTART;VALUE=DATE:20241015
DTEND;VALUE=DATE:20241017
DTSTAMP:20260422T100123
CREATED:20240328T170430Z
LAST-MODIFIED:20240328T170430Z
UID:9424-1728950400-1729123199@www.bfmmagazine.co.uk
SUMMARY:Education Estates
DESCRIPTION:Education Estates® is the UK’s leading learning environments event – a unique forum that brings the whole community together.  For many of our participants\, it’s the only event of the year that brings together the whole community: from policy makers and designers to suppliers and educators.  It is also a key resource to gain valuable insight into upcoming policy and practical knowledge from experts in the sector. \nThe 12th edition of Education Estates® will take place on 15-16 October 2024 at Manchester Central. The event comprises a two-day multi-stream conference\, an exhibition showcasing some of the most innovative solutions around and an awards ceremony celebrating excellence in the sector. The event’s success can be attributed to its strict focus on educational infrastructure: the funding\, design\, build\, maintenance and management of schools\, colleges and universities.
URL:https://www.bfmmagazine.co.uk/event/education-estates/
LOCATION:Manchester Central\, Petersfield\, Manchester\, M2 3GX\, United Kingdom
CATEGORIES:Awards,Conference,Exhibition
ORGANIZER;CN="Step Connect2":MAILTO:education@stepconnect2.com
END:VEVENT
END:VCALENDAR